BEGIN:VCALENDAR
VERSION:2.0
PRODID:-//Ocean &amp; Bay Intergroup - ECPv6.15.20//NONSGML v1.0//EN
CALSCALE:GREGORIAN
METHOD:PUBLISH
X-WR-CALNAME:Ocean &amp; Bay Intergroup
X-ORIGINAL-URL:https://oceanandbay.org
X-WR-CALDESC:Events for Ocean &amp; Bay Intergroup
REFRESH-INTERVAL;VALUE=DURATION:PT1H
X-Robots-Tag:noindex
X-PUBLISHED-TTL:PT1H
BEGIN:VTIMEZONE
TZID:America/New_York
BEGIN:DAYLIGHT
TZOFFSETFROM:-0500
TZOFFSETTO:-0400
TZNAME:EDT
DTSTART:20240310T070000
END:DAYLIGHT
BEGIN:STANDARD
TZOFFSETFROM:-0400
TZOFFSETTO:-0500
TZNAME:EST
DTSTART:20241103T060000
END:STANDARD
BEGIN:DAYLIGHT
TZOFFSETFROM:-0500
TZOFFSETTO:-0400
TZNAME:EDT
DTSTART:20250309T070000
END:DAYLIGHT
BEGIN:STANDARD
TZOFFSETFROM:-0400
TZOFFSETTO:-0500
TZNAME:EST
DTSTART:20251102T060000
END:STANDARD
BEGIN:DAYLIGHT
TZOFFSETFROM:-0500
TZOFFSETTO:-0400
TZNAME:EDT
DTSTART:20260308T070000
END:DAYLIGHT
BEGIN:STANDARD
TZOFFSETFROM:-0400
TZOFFSETTO:-0500
TZNAME:EST
DTSTART:20261101T060000
END:STANDARD
END:VTIMEZONE
BEGIN:VEVENT
DTSTART;TZID=America/New_York:20250607T090000
DTEND;TZID=America/New_York:20250607T153000
DTSTAMP:20260423T132750
CREATED:20250401T183145Z
LAST-MODIFIED:20250510T171040Z
UID:10000139-1749286800-1749310200@oceanandbay.org
SUMMARY:North Shore Intergroup Annual Retreat
DESCRIPTION:Come join us in Ipswich\, MA for our 13th annual one-day OA retreat! \nSeeking conscious contact: \nTransforming our relationship with our higher power \nIn this retreat\, we will look at our relationship with our higher power \nAnd practice writing and sharing two-way prayer.  The day includes \nDiscussion\, breakout group\, opportunities for writing and fellowship in \nThis peaceful and contemplative setting. \n30 Jeffreys Neck Road\, Ipswich\, MA 01938\nNotre Dame Spirituality Center\nSaturday\, June 7\, 2025\, 9:00 am to 3:00 pm \nFOR DRIVING DIRECTIONS\, VISIT HTTPS://WWW.NDSPIRITUALITYCENTER.ORG/ [2] \nBring your lunch –  coffee\, tea\, and water will be provided smoke and Fragrance-free. Handicapped accessible \nPlease come and join us! \nYou can find the flyer at:
URL:https://oceanandbay.org/event/north-shore-intergroup-annual-retreat/
LOCATION:Notre Dame Spirituality Center\, 30 Jeffreys Neck Road\, Ipswich\, MA\, 01938\, United States
CATEGORIES:Other OA Events
ATTACH;FMTTYPE=image/jpeg:https://oceanandbay.org/wp-content/uploads/2025/04/North-Shore-IG-SPLASH.jpg
END:VEVENT
END:VCALENDAR